BEGIN:VCALENDAR
VERSION:2.0
PRODID:-//Stratis iCal API//FR
CALSCALE:GREGORIAN
X-WR-CALNAME:Exposition vente
BEGIN:VEVENT
UID:event-22401
SUMMARY:Exposition vente
DESCRIPTION:<p><p>Exposition et vente de peintures  sculptures  artisanat  etc</p><br /> </p>
DTSTAMP:20260421T070650Z
DTSTART:20260508T080000Z
DTEND:20260508T163000Z
STATUS:CONFIRMED
BEGIN:VALARM
TRIGGER:-PT30M
DESCRIPTION:Exposition vente
ACTION:DISPLAY
END:VALARM
END:VEVENT
END:VCALENDAR